BEGIN:VCALENDAR
VERSION:2.0
PRODID:-//Plone.org//NONSGML plone.app.event//EN
X-WR-TIMEZONE:Europe/Zurich
BEGIN:VEVENT
SUMMARY:2./3. Kl. / Ferienbeginn
DTSTART;TZID=Europe/Zurich;VALUE=DATE-TIME:20160701T140000
DTEND;TZID=Europe/Zurich;VALUE=DATE-TIME:20160701T140000
DTSTAMP;VALUE=DATE-TIME:20260421T110550Z
UID:040000008200E00074C5B7101A82E0080000000000AF40AECDADD00100000000000000
 0010000000ED7FEE81E5506C43802F3DD123BAA40A
CREATED;VALUE=DATE-TIME:20150710T073759Z
LAST-MODIFIED;VALUE=DATE-TIME:20200706T064343Z
URL:https://www.sek-pratteln.ch/events/oeffentlich/2-3-kl-ferienbeginn
END:VEVENT
BEGIN:VTIMEZONE
TZID:Europe/Zurich
X-LIC-LOCATION:Europe/Zurich
BEGIN:DAYLIGHT
DTSTART;VALUE=DATE-TIME:20160327T030000
TZNAME:CEST
TZOFFSETFROM:+0100
TZOFFSETTO:+0200
END:DAYLIGHT
END:VTIMEZONE
END:VCALENDAR
