BEGIN:VCALENDAR
VERSION:2.0
PRODID:-//Plone.org//NONSGML plone.app.event//EN
X-WR-TIMEZONE:Europe/Zurich
BEGIN:VEVENT
SUMMARY:1. Klassen: nachmittags schulfrei
DTSTART;TZID=Europe/Zurich;VALUE=DATE-TIME:20211217T133000
DTEND;TZID=Europe/Zurich;VALUE=DATE-TIME:20211217T170000
DTSTAMP;VALUE=DATE-TIME:20260420T152959Z
UID:040000008200E00074C5B7101A82E00800000000009D6ECD9E63D70100000000000000
 00100000009676BE9EBD7E0F41AB0AC51328E881C2
CREATED;VALUE=DATE-TIME:20210701T072617Z
LAST-MODIFIED;VALUE=DATE-TIME:20210701T072815Z
URL:https://www.sek-pratteln.ch/events/oeffentlich/1-klassen-nachmittags-s
 chulfrei
END:VEVENT
BEGIN:VTIMEZONE
TZID:Europe/Zurich
X-LIC-LOCATION:Europe/Zurich
BEGIN:STANDARD
DTSTART;VALUE=DATE-TIME:20211031T020000
TZNAME:CET
TZOFFSETFROM:+0200
TZOFFSETTO:+0100
END:STANDARD
END:VTIMEZONE
END:VCALENDAR
