BEGIN:VCALENDAR
VERSION:2.0
PRODID:-//Plone.org//NONSGML plone.app.event//EN
X-WR-TIMEZONE:Europe/Zurich
BEGIN:VEVENT
SUMMARY:1. Klassen: nachmittags schulfrei
DTSTART;TZID=Europe/Zurich;VALUE=DATE-TIME:20221223T120000
DTEND;TZID=Europe/Zurich;VALUE=DATE-TIME:20221223T170000
DTSTAMP;VALUE=DATE-TIME:20260421T111200Z
UID:040000008200E00074C5B7101A82E00800000000A04156393183D80100000000000000
 0010000000A40603796E945E44A54966FC0195CC87
CREATED;VALUE=DATE-TIME:20220627T163413Z
DESCRIPTION: \n
LAST-MODIFIED;VALUE=DATE-TIME:20220627T165941Z
URL:https://www.sek-pratteln.ch/events/oeffentlich/1-klassen-nachmittags-s
 chulfrei-1
END:VEVENT
BEGIN:VTIMEZONE
TZID:Europe/Zurich
X-LIC-LOCATION:Europe/Zurich
BEGIN:STANDARD
DTSTART;VALUE=DATE-TIME:20221030T020000
TZNAME:CET
TZOFFSETFROM:+0200
TZOFFSETTO:+0100
END:STANDARD
END:VTIMEZONE
END:VCALENDAR
