BEGIN:VCALENDAR
VERSION:2.0
PRODID:-//Plone.org//NONSGML plone.app.event//EN
X-WR-TIMEZONE:Europe/Zurich
BEGIN:VEVENT
SUMMARY:1. Klassen: Jahresabschlussfeier (10:15h)
DTSTART;TZID=Europe/Zurich;VALUE=DATE-TIME:20231222T101000
DTEND;TZID=Europe/Zurich;VALUE=DATE-TIME:20231222T114500
DTSTAMP;VALUE=DATE-TIME:20260420T151314Z
UID:040000008200E00074C5B7101A82E0080000000090AB0B3243A4D90100000000000000
 0010000000F77DCB21CA350F4FBD191F1D32B64BD1
CREATED;VALUE=DATE-TIME:20230626T125546Z
LAST-MODIFIED;VALUE=DATE-TIME:20230626T125922Z
LOCATION:grosse Aula B
URL:https://www.sek-pratteln.ch/events/oeffentlich/1-klassen-jahresabschlu
 ssfeier-10-15h
END:VEVENT
BEGIN:VTIMEZONE
TZID:Europe/Zurich
X-LIC-LOCATION:Europe/Zurich
BEGIN:STANDARD
DTSTART;VALUE=DATE-TIME:20231029T020000
TZNAME:CET
TZOFFSETFROM:+0200
TZOFFSETTO:+0100
END:STANDARD
END:VTIMEZONE
END:VCALENDAR
