BEGIN:VCALENDAR
VERSION:2.0
PRODID:-//Plone.org//NONSGML plone.app.event//EN
X-WR-TIMEZONE:Europe/Zurich
BEGIN:VEVENT
SUMMARY:1. Klassen: Jahresabschlussfeier - abgesagt
DTSTART;TZID=Europe/Zurich;VALUE=DATE-TIME:20211217T101500
DTEND;TZID=Europe/Zurich;VALUE=DATE-TIME:20211217T115000
DTSTAMP;VALUE=DATE-TIME:20260421T111308Z
UID:040000008200E00074C5B7101A82E0080000000040FA2B919E63D70100000000000000
 00100000008177AC5D31EC964AA296ECF984540501
CREATED;VALUE=DATE-TIME:20210701T072617Z
DESCRIPTION:None
LAST-MODIFIED;VALUE=DATE-TIME:20211124T103935Z
URL:https://www.sek-pratteln.ch/events/oeffentlich/1-klassen-jahresabschlu
 ssfeier-10-15h-11-50h-aula-b
END:VEVENT
BEGIN:VTIMEZONE
TZID:Europe/Zurich
X-LIC-LOCATION:Europe/Zurich
BEGIN:STANDARD
DTSTART;VALUE=DATE-TIME:20211031T020000
TZNAME:CET
TZOFFSETFROM:+0200
TZOFFSETTO:+0100
END:STANDARD
END:VTIMEZONE
END:VCALENDAR
