BEGIN:VCALENDAR
VERSION:2.0
PRODID:-//Plone.org//NONSGML plone.app.event//EN
X-WR-TIMEZONE:Europe/Zurich
BEGIN:VEVENT
SUMMARY:1. Klassen: 08:20 Begrüssung durch die SL\, danach U bei KLP\, ab
  13:40 U nach Stundenplan\; 2. und 3. Klassen: 08:20 Schulstart bei KLP\, 
 ab 10:15 U nach Stundenplan
DTSTART;TZID=Europe/Zurich;VALUE=DATE-TIME:20220815T082000
DTEND;TZID=Europe/Zurich;VALUE=DATE-TIME:20220815T115000
DTSTAMP;VALUE=DATE-TIME:20260421T111316Z
UID:040000008200E00074C5B7101A82E00800000000E0ED430E1E83D80100000000000000
 0010000000EF5819E6D5EEEC40BE82E9F101B5E595
CREATED;VALUE=DATE-TIME:20220627T163402Z
DESCRIPTION: \n
LAST-MODIFIED;VALUE=DATE-TIME:20220627T170000Z
LOCATION:grosse Aula-B / Unterrichtszimmer
URL:https://www.sek-pratteln.ch/events/oeffentlich/1-klassen-08-20-begrues
 sung-durch-die-sl-danach-u-bei-klp-ab-13-40-u-nach-stundenplan-2-und-3-kla
 ssen-08-20-schulstart-bei-klp-ab-10-15-u-nach-stundenplan
END:VEVENT
BEGIN:VTIMEZONE
TZID:Europe/Zurich
X-LIC-LOCATION:Europe/Zurich
BEGIN:DAYLIGHT
DTSTART;VALUE=DATE-TIME:20220327T030000
TZNAME:CEST
TZOFFSETFROM:+0100
TZOFFSETTO:+0200
END:DAYLIGHT
END:VTIMEZONE
END:VCALENDAR
