BEGIN:VCALENDAR
VERSION:2.0
PRODID:-//Plone.org//NONSGML plone.app.event//EN
X-WR-TIMEZONE:Europe/Zurich
BEGIN:VEVENT
SUMMARY:1. Klassen: 08:15h Begrüssung durch SL\, danach U bei KLP\, ab 13
 :45h U nach Stundenplan / 2. u. 3. Klassen: 08:15h U bei KLP\, ab 10:10h U
  nach Stundenplan
DTSTART;TZID=Europe/Zurich;VALUE=DATE-TIME:20240812T081500
DTEND;TZID=Europe/Zurich;VALUE=DATE-TIME:20240812T114500
DTSTAMP;VALUE=DATE-TIME:20260421T111316Z
UID:040000008200E00074C5B7101A82E00800000000102C1CAA31C2DA0100000000000000
 0010000000A2BA434F2CC00A4EB4408B74D2C387AA
CREATED;VALUE=DATE-TIME:20240627T145127Z
LAST-MODIFIED;VALUE=DATE-TIME:20240627T145410Z
LOCATION:grosse Aula-B / Schulzimmer
URL:https://www.sek-pratteln.ch/events/oeffentlich/1-klassen-08-15h-begrue
 ssung-durch-sl-danach-u-bei-klp-ab-13-45h-u-nach-stundenplan-2-u-3-klassen
 -08-15h-u-bei-klp-ab-10-10h-u-nach-stundenplan
END:VEVENT
BEGIN:VTIMEZONE
TZID:Europe/Zurich
X-LIC-LOCATION:Europe/Zurich
BEGIN:DAYLIGHT
DTSTART;VALUE=DATE-TIME:20240331T030000
TZNAME:CEST
TZOFFSETFROM:+0100
TZOFFSETTO:+0200
END:DAYLIGHT
END:VTIMEZONE
END:VCALENDAR
