BEGIN:VCALENDAR
VERSION:2.0
PRODID:-//Plone.org//NONSGML plone.app.event//EN
X-WR-TIMEZONE:Europe/Zurich
BEGIN:VEVENT
SUMMARY:1. Klassen: 08:15h Begrüssung durch die SL\, danach U bei KLP\, a
 b 13:45h U nach Stundenplan. 2. und 3. Klassen: 08:15h Schulstart bei KLP\
 , ab 10:10h U nach Stundenplan.
DTSTART;TZID=Europe/Zurich;VALUE=DATE-TIME:20250811T081500
DTEND;TZID=Europe/Zurich;VALUE=DATE-TIME:20250811T170000
DTSTAMP;VALUE=DATE-TIME:20260421T110035Z
UID:040000008200E00074C5B7101A82E00800000000103AF0091BD2DB0100000000000000
 00100000009F5B5318825ED344A4E31361503969C3
CREATED;VALUE=DATE-TIME:20250611T084916Z
LAST-MODIFIED;VALUE=DATE-TIME:20250611T085637Z
LOCATION:grosse Aula B / Zimmer
URL:https://www.sek-pratteln.ch/events/oeffentlich/1-klassen-08-15h-begrue
 ssung-durch-die-sl-danach-u-bei-klp-ab-13-45h-u-nach-stundenplan-2-und-3-k
 lassen-08-15h-schulstart-bei-klp-ab-10-10h-u-nach-stundenplan
END:VEVENT
BEGIN:VTIMEZONE
TZID:Europe/Zurich
X-LIC-LOCATION:Europe/Zurich
BEGIN:DAYLIGHT
DTSTART;VALUE=DATE-TIME:20250330T030000
TZNAME:CEST
TZOFFSETFROM:+0100
TZOFFSETTO:+0200
END:DAYLIGHT
END:VTIMEZONE
END:VCALENDAR
