BEGIN:VCALENDAR
VERSION:2.0
PRODID:-//Plone.org//NONSGML plone.app.event//EN
X-WR-TIMEZONE:Europe/Zurich
BEGIN:VEVENT
SUMMARY:1. Kl: 08:20 Begrüssung durch die SL\, danach bei den KLP. Ab 13:
 30 Unterricht nach Stundenplan
DTSTART;TZID=Europe/Zurich;VALUE=DATE-TIME:20200810T082000
DTEND;TZID=Europe/Zurich;VALUE=DATE-TIME:20200810T120000
DTSTAMP;VALUE=DATE-TIME:20260421T110036Z
UID:040000008200E00074C5B7101A82E00800000000B02212568E45D60100000000000000
 001000000035A01E5CD4BC02489682F273CCF64694
CREATED;VALUE=DATE-TIME:20200706T062904Z
LAST-MODIFIED;VALUE=DATE-TIME:20200706T064407Z
LOCATION:grosse Aula-B
URL:https://www.sek-pratteln.ch/events/oeffentlich/1-kl-08-20-begruessung-
 durch-die-sl-danach-bei-den-klp-ab-13-30-unterricht-nach-stundenplan
END:VEVENT
BEGIN:VTIMEZONE
TZID:Europe/Zurich
X-LIC-LOCATION:Europe/Zurich
BEGIN:DAYLIGHT
DTSTART;VALUE=DATE-TIME:20200329T030000
TZNAME:CEST
TZOFFSETFROM:+0100
TZOFFSETTO:+0200
END:DAYLIGHT
END:VTIMEZONE
END:VCALENDAR
