BEGIN:VCALENDAR
VERSION:2.0
PRODID:-//Plone.org//NONSGML plone.app.event//EN
X-WR-TIMEZONE:Europe/Zurich
BEGIN:VEVENT
SUMMARY:1.\, 2. Klassen: Unterricht nach Stundenplan
DTSTART;VALUE=DATE:20210701
DTEND;VALUE=DATE:20210702
DTSTAMP;VALUE=DATE-TIME:20260421T111139Z
UID:040000008200E00074C5B7101A82E00800000000E0515E9B2A4AD60100000000000000
 00100000002B4134FAF42A4C49BA0DB36C20725F5A
CREATED;VALUE=DATE-TIME:20200706T062820Z
LAST-MODIFIED;VALUE=DATE-TIME:20200706T064402Z
URL:https://www.sek-pratteln.ch/events/oeffentlich/1-2-klassen-unterricht-
 nach-stundenplan
END:VEVENT
END:VCALENDAR
