BEGIN:VCALENDAR
VERSION:2.0
PRODID:-//Plone.org//NONSGML plone.app.event//EN
X-WR-TIMEZONE:Europe/Zurich
BEGIN:VEVENT
SUMMARY:1.\, 2. Klassen: Unterricht nach Stundenplan / 3. Klassen: Abschlu
 ssfeier (14:00h GP\; 19:30h Kuspo)
DTSTART;VALUE=DATE:20220630
DTEND;VALUE=DATE:20220701
DTSTAMP;VALUE=DATE-TIME:20260421T111317Z
UID:040000008200E00074C5B7101A82E00800000000506CEF179663D70100000000000000
 0010000000C38139A848D0EC4D9CBBC0982A980EE7
CREATED;VALUE=DATE-TIME:20210701T072606Z
DESCRIPTION:Eröffnung der Abschlussfeier durch Chor/Band um 19:00 Uhr
LAST-MODIFIED;VALUE=DATE-TIME:20220627T052729Z
URL:https://www.sek-pratteln.ch/events/oeffentlich/1-2-klassen-unterricht-
 nach-stundenplan-3-klassen-abschlussfeier-14-00h-gp-19-30h-kuspo
END:VEVENT
END:VCALENDAR
