BEGIN:VCALENDAR
VERSION:2.0
PRODID:-//Plone.org//NONSGML plone.app.event//EN
X-WR-TIMEZONE:Europe/Zurich
BEGIN:VEVENT
SUMMARY:1./2. Kl. Unterricht nach Stundenplan
DTSTART;VALUE=DATE:20250626
DTEND;VALUE=DATE:20250627
DTSTAMP;VALUE=DATE-TIME:20260420T004326Z
UID:040000008200E00074C5B7101A82E00800000000F0132ABA46C2DA0100000000000000
 00100000003D4E48D372A8984F83414317A92286DB
CREATED;VALUE=DATE-TIME:20240627T145043Z
LAST-MODIFIED;VALUE=DATE-TIME:20240627T145631Z
URL:https://www.sek-pratteln.ch/events/oeffentlich/1-2-kl-unterricht-nach-
 stundenplan
END:VEVENT
END:VCALENDAR
