BEGIN:VCALENDAR
VERSION:2.0
PRODID:-//Plone.org//NONSGML plone.app.event//EN
X-WR-TIMEZONE:Europe/Zurich
BEGIN:VEVENT
SUMMARY:1.\,2.Kl: Unterricht nach Stundenplan bis 14:00h
DTSTART;VALUE=DATE:20230630
DTEND;VALUE=DATE:20230701
DTSTAMP;VALUE=DATE-TIME:20260421T150654Z
UID:040000008200E00074C5B7101A82E00800000000207B1A8E1D83D80100000000000000
 0010000000F8997E8F726C714486E9214712085DAC
CREATED;VALUE=DATE-TIME:20220627T163402Z
DESCRIPTION: \n
LAST-MODIFIED;VALUE=DATE-TIME:20220627T165959Z
URL:https://www.sek-pratteln.ch/events/oeffentlich/1-2-kl-unterricht-nach-
 stundenplan-bis-14-00h
END:VEVENT
END:VCALENDAR
