BEGIN:VCALENDAR
VERSION:2.0
PRODID:-//Plone.org//NONSGML plone.app.event//EN
X-WR-TIMEZONE:Europe/Zurich
BEGIN:VEVENT
SUMMARY:1./2. Kl.: Unterricht nach Stundenplan bis 13:45h
DTSTART;TZID=Europe/Zurich;VALUE=DATE-TIME:20250627T072500
DTEND;TZID=Europe/Zurich;VALUE=DATE-TIME:20250627T134500
DTSTAMP;VALUE=DATE-TIME:20260421T111157Z
UID:040000008200E00074C5B7101A82E008000000008062330947C2DA0100000000000000
 0010000000C0B649E42C642047AE9D3DD19AB335F1
CREATED;VALUE=DATE-TIME:20240627T145042Z
LAST-MODIFIED;VALUE=DATE-TIME:20240627T145631Z
URL:https://www.sek-pratteln.ch/events/oeffentlich/1-2-kl-unterricht-nach-
 stundenplan-bis-13-45h
END:VEVENT
BEGIN:VTIMEZONE
TZID:Europe/Zurich
X-LIC-LOCATION:Europe/Zurich
BEGIN:DAYLIGHT
DTSTART;VALUE=DATE-TIME:20250330T030000
TZNAME:CEST
TZOFFSETFROM:+0100
TZOFFSETTO:+0200
END:DAYLIGHT
END:VTIMEZONE
END:VCALENDAR
