BEGIN:VCALENDAR
VERSION:2.0
PRODID:-//Plone.org//NONSGML plone.app.event//EN
X-WR-TIMEZONE:Europe/Zurich
BEGIN:VEVENT
SUMMARY:1./2. Kl.: Unterricht nach Stundenplan. 3.Kl.: Abschlussfeier 19:3
 0h KUSPO (Nm: ab 13:00h Hauptprobe)
DTSTART;VALUE=DATE:20260625
DTEND;VALUE=DATE:20260626
DTSTAMP;VALUE=DATE-TIME:20260421T111317Z
UID:040000008200E00074C5B7101A82E00800000000709430B52ED2DB0100000000000000
 0010000000AD9458E8EF9B6541BE8D87F2EA1091CD
CREATED;VALUE=DATE-TIME:20250611T084834Z
DESCRIPTION:None
LAST-MODIFIED;VALUE=DATE-TIME:20250701T053257Z
URL:https://www.sek-pratteln.ch/events/oeffentlich/1-2-kl-unterricht-nach-
 stundenplan-3-kl-abschlussfeier-19-30h-kuspo-nm-gp
END:VEVENT
END:VCALENDAR
