BEGIN:VCALENDAR
VERSION:2.0
PRODID:-//Plone.org//NONSGML plone.app.event//EN
X-WR-TIMEZONE:Europe/Zurich
BEGIN:VEVENT
SUMMARY:1.\, 2. Kl.: Unterricht nach Stundenplan / 3. Kl.: Abschlussfeier 
 (14:00 GP\, 19:30 Kuspo)
DTSTART;VALUE=DATE:20230629
DTEND;VALUE=DATE:20230630
DTSTAMP;VALUE=DATE-TIME:20260419T153857Z
UID:040000008200E00074C5B7101A82E00800000000801CDEB93B83D80100000000000000
 00100000007669F882BE7633408EA509BCC6632437
CREATED;VALUE=DATE-TIME:20220627T163431Z
DESCRIPTION: \n
LAST-MODIFIED;VALUE=DATE-TIME:20220627T165914Z
URL:https://www.sek-pratteln.ch/events/oeffentlich/1-2-kl-unterricht-nach-
 stundenplan-3-kl-abschlussfeier-14-00-gp-19-30-kuspo
END:VEVENT
END:VCALENDAR
